BEGIN:VCALENDAR
VERSION:2.0
PRODID:-//sebbo.net//ical-generator//EN
BEGIN:VEVENT
UID:c01e4584-e3ef-4999-88da-0e97fa683006
SEQUENCE:0
DTSTAMP:20260422T175428Z
DTSTART:20260805T170000Z
DTEND:20260805T200000Z
SUMMARY:Left To Die - Europe 2026 - Berlin - Frannz Club
LOCATION:Frannz Club\, Schönhauser Allee 36\, 10435 Berlin\, Deutschland
DESCRIPTION:Einlass: 19:00 Uhr\, Beginn: 20:00
END:VEVENT
END:VCALENDAR